BEGIN:VCALENDAR
VERSION:2.0
PRODID:-//Squarespace Inc/Squarespace 6//v6//EN
BEGIN:VEVENT
UID:5a62cd7a652dea21c620ebc3@squarespace.com
DTSTAMP:20180120T050309Z
DTSTART:20180924T230000Z
DTEND:20180925T030000Z
SUMMARY:Performance Workshop Two
GEO:-27.466216;153.034053
LOCATION:The Brisbane Jazz Club
END:VEVENT
END:VCALENDAR
