BEGIN:VCALENDAR
VERSION:2.0
PRODID:-//Squarespace Inc/Squarespace 6//v6//EN
BEGIN:VEVENT
UID:5a62cd9ce4966be2941f71cc@squarespace.com
DTSTAMP:20180120T050331Z
DTSTART:20180925T230000Z
DTEND:20180926T030000Z
SUMMARY:Performance Workshop Two
GEO:-27.466216;153.034053
LOCATION:The Brisbane Jazz Club
END:VEVENT
END:VCALENDAR
