BEGIN:VCALENDAR
VERSION:2.0
PRODID:-//Squarespace Inc/Squarespace 6//v6//EN
BEGIN:VEVENT
UID:5a62cdaf0852297c4174d27f@squarespace.com
DTSTAMP:20180120T050353Z
DTSTART:20180926T230000Z
DTEND:20180927T030000Z
SUMMARY:Performance Workshop Two
GEO:-27.466216;153.034053
LOCATION:The Brisbane Jazz Club
END:VEVENT
END:VCALENDAR
