BEGIN:VCALENDAR
VERSION:2.0
PRODID:-//Squarespace Inc/Squarespace 6//v6//EN
BEGIN:VEVENT
UID:5a62cdde9140b7fa0a6c0b69@squarespace.com
DTSTAMP:20180120T050501Z
DTSTART:20181001T230000Z
DTEND:20181002T030000Z
SUMMARY:Performance Workshop Two
GEO:-27.466216;153.034053
LOCATION:The Brisbane Jazz Club
END:VEVENT
END:VCALENDAR
