BEGIN:VCALENDAR
VERSION:2.0
PRODID:-//Squarespace Inc/Squarespace 6//v6//EN
BEGIN:VEVENT
UID:5a62ce1ec830251a708722ea@squarespace.com
DTSTAMP:20180120T050613Z
DTSTART:20181002T230000Z
DTEND:20181003T030000Z
SUMMARY:Performance Workshop Two
GEO:-27.466216;153.034053
LOCATION:The Brisbane Jazz Club
END:VEVENT
END:VCALENDAR
