BEGIN:VCALENDAR
VERSION:2.0
PRODID:-//Squarespace Inc/Squarespace 6//v6//EN
BEGIN:VEVENT
UID:5a62ce4b9140b7fa0a6c1a51@squarespace.com
DTSTAMP:20180120T050902Z
DTSTART:20181006T040000Z
DTEND:20181006T120000Z
SUMMARY:Performance Workshop Performance Day
GEO:-27.466216;153.034053
LOCATION:The Brisbane Jazz Club
END:VEVENT
END:VCALENDAR
