BEGIN:VCALENDAR
VERSION:2.0
PRODID:-//Squarespace Inc/Squarespace 6//v6//EN
BEGIN:VEVENT
UID:5a62cea4652dea21c621147c@squarespace.com
DTSTAMP:20180120T050808Z
DTSTART:20181004T230000Z
DTEND:20181005T030000Z
SUMMARY:Performance Workshop Two - Day Ten
GEO:-27.466216;153.034053
LOCATION:The Brisbane Jazz Club
END:VEVENT
END:VCALENDAR
