BEGIN:VCALENDAR
VERSION:2.0
PRODID:-//Squarespace Inc/Squarespace 6//v6//EN
BEGIN:VEVENT
UID:5a7fb2c9f9619ab1a9482cc6@squarespace.com
DTSTAMP:20180211T030552Z
DTSTART:20180701T013000Z
DTEND:20180701T033000Z
SUMMARY:Big Band Performance
END:VEVENT
END:VCALENDAR
