BEGIN:VCALENDAR
VERSION:2.0
PRODID:-//Squarespace Inc/Squarespace 6//v6//EN
BEGIN:VEVENT
UID:5ad845b0aa4a996c2d5c9b19@squarespace.com
DTSTAMP:20180419T073126Z
DTSTART:20180516T080000Z
DTEND:20180516T090000Z
SUMMARY:Big Band Performance
END:VEVENT
END:VCALENDAR
