BEGIN:VCALENDAR
VERSION:2.0
PRODID:-//Squarespace Inc/Squarespace 6//v6//EN
BEGIN:VEVENT
UID:5a62c85f71c10be0a046a4e4@squarespace.com
DTSTAMP:20180120T050012Z
DTSTART:20180408T230000Z
DTEND:20180409T030000Z
SUMMARY:Performance Workshop One - Day One
GEO:-27.466216;153.034053
LOCATION:The Brisbane Jazz Club
END:VEVENT
END:VCALENDAR
