BEGIN:VCALENDAR
VERSION:2.0
PRODID:-//Squarespace Inc/Squarespace 6//v6//EN
BEGIN:VEVENT
UID:5a62c92471c10be0a046c15f@squarespace.com
DTSTAMP:20180120T050022Z
DTSTART:20180409T230000Z
DTEND:20180410T030000Z
SUMMARY:Performance Workshop One - Day Two
GEO:-27.466216;153.034053
LOCATION:Brisbane Jazz Club
END:VEVENT
END:VCALENDAR
