BEGIN:VCALENDAR
VERSION:2.0
PRODID:-//Squarespace Inc/Squarespace 6//v6//EN
BEGIN:VEVENT
UID:5a62c97e652dea21c6205c87@squarespace.com
DTSTAMP:20180120T044905Z
DTSTART:20180411T230000Z
DTEND:20180412T030000Z
SUMMARY:Performance Workshop One - Day Four
GEO:-27.466216;153.034053
LOCATION:Brisbane Jazz Club
END:VEVENT
END:VCALENDAR
