BEGIN:VCALENDAR
VERSION:2.0
PRODID:-//Squarespace Inc/Squarespace 6//v6//EN
BEGIN:VEVENT
UID:5a62c9c3f9619ad9da5302dd@squarespace.com
DTSTAMP:20180120T044911Z
DTSTART:20180413T020000Z
DTEND:20180413T070000Z
SUMMARY:Performance Workshop One - Day Five
GEO:-27.466216;153.034053
LOCATION:Brisbane Jazz Club
END:VEVENT
END:VCALENDAR
