BEGIN:VCALENDAR
VERSION:2.0
PRODID:-//Squarespace Inc/Squarespace 6//v6//EN
BEGIN:VEVENT
UID:5a62c9ace4966be2941ee36b@squarespace.com
DTSTAMP:20180120T050054Z
DTSTART:20180410T230000Z
DTEND:20180411T030000Z
SUMMARY:Performance Workshop One - Day Three
GEO:-27.466216;153.034053
LOCATION:Brisbane Jazz Club
END:VEVENT
END:VCALENDAR
