BEGIN:VCALENDAR
VERSION:2.0
PRODID:-//Squarespace Inc/Squarespace 6//v6//EN
BEGIN:VEVENT
UID:5a5c167f24a694da4ab443de@squarespace.com
DTSTAMP:20180115T070036Z
DTSTART:20180223T230000Z
DTEND:20180224T010000Z
SUMMARY:Jam Session One
GEO:-27.466216;153.034053
LOCATION:The Brisbane Jazz Club
END:VEVENT
END:VCALENDAR
