BEGIN:VCALENDAR
VERSION:2.0
PRODID:-//Squarespace Inc/Squarespace 6//v6//EN
BEGIN:VEVENT
UID:5a5c183f4192027c064b8182@squarespace.com
DTSTAMP:20180115T060621Z
DTSTART:20180309T230000Z
DTEND:20180310T010000Z
SUMMARY:Jam Session Two
GEO:-27.466216;153.034053
LOCATION:The Brisbane Jazz Club
END:VEVENT
END:VCALENDAR
