BEGIN:VCALENDAR
VERSION:2.0
PRODID:-//Squarespace Inc/Squarespace 6//v6//EN
BEGIN:VEVENT
UID:5a5c189171c10bca1335cc5a@squarespace.com
DTSTAMP:20180115T060627Z
DTSTART:20180323T230000Z
DTEND:20180324T010000Z
SUMMARY:Jam Session Three
GEO:-27.466216;153.034053
LOCATION:The Brisbane Jazz Club
END:VEVENT
END:VCALENDAR
