BEGIN:VCALENDAR
VERSION:2.0
PRODID:-//Squarespace Inc/Squarespace 6//v6//EN
BEGIN:VEVENT
UID:5a5c18dc0d9297bb7c956817@squarespace.com
DTSTAMP:20180115T060639Z
DTSTART:20180427T230000Z
DTEND:20180428T010000Z
SUMMARY:Jam Session Five
GEO:-27.466216;153.034053
LOCATION:The Brisbane Jazz Club
END:VEVENT
END:VCALENDAR
