BEGIN:VCALENDAR
VERSION:2.0
PRODID:-//Squarespace Inc/Squarespace 6//v6//EN
BEGIN:VEVENT
UID:5a5c1907085229750fb3e36a@squarespace.com
DTSTAMP:20180115T060646Z
DTSTART:20180511T230000Z
DTEND:20180512T010000Z
SUMMARY:Jam Session Six
GEO:-27.466216;153.034053
LOCATION:The Brisbane Jazz Club
END:VEVENT
END:VCALENDAR
