BEGIN:VCALENDAR
VERSION:2.0
PRODID:-//Squarespace Inc/Squarespace 6//v6//EN
BEGIN:VEVENT
UID:5a5c192f71c10bca1335e437@squarespace.com
DTSTAMP:20180115T060652Z
DTSTART:20180525T230000Z
DTEND:20180526T010000Z
SUMMARY:Jam Session Seven
GEO:-27.466216;153.034053
LOCATION:The Brisbane Jazz Club
END:VEVENT
END:VCALENDAR
