BEGIN:VCALENDAR
VERSION:2.0
PRODID:-//Squarespace Inc/Squarespace 6//v6//EN
BEGIN:VEVENT
UID:5a5c194e8165f5ec9de70121@squarespace.com
DTSTAMP:20180115T060659Z
DTSTART:20180608T230000Z
DTEND:20180609T010000Z
SUMMARY:Jam Session Eight
GEO:-27.466216;153.034053
LOCATION:The Brisbane Jazz Club
END:VEVENT
END:VCALENDAR
