BEGIN:VCALENDAR
VERSION:2.0
PRODID:-//Squarespace Inc/Squarespace 6//v6//EN
BEGIN:VEVENT
UID:5a5c1a64ec212d764ffa373b@squarespace.com
DTSTAMP:20180115T060716Z
DTSTART:20180810T230000Z
DTEND:20180811T010000Z
SUMMARY:Jam Session Eleven
GEO:-27.466216;153.034053
LOCATION:The Brisbane Jazz Club
END:VEVENT
END:VCALENDAR
