BEGIN:VCALENDAR
VERSION:2.0
PRODID:-//Squarespace Inc/Squarespace 6//v6//EN
BEGIN:VEVENT
UID:5a5c1aa1652dea17cc36ff4c@squarespace.com
DTSTAMP:20180115T060734Z
DTSTART:20180831T230000Z
DTEND:20180901T010000Z
SUMMARY:Jam Session Thirteen
GEO:-27.466216;153.034053
LOCATION:The Brisbane Jazz Club
END:VEVENT
END:VCALENDAR
