BEGIN:VCALENDAR
VERSION:2.0
PRODID:-//Squarespace Inc/Squarespace 6//v6//EN
BEGIN:VEVENT
UID:5a5c17e2085229750fb3b5ae@squarespace.com
DTSTAMP:20180120T045032Z
DTSTART:20180221T070000Z
DTEND:20180221T090000Z
SUMMARY:Big Band Rehearsal One
GEO:-27.466216;153.034053
LOCATION:The Brisbane Jazz Club
END:VEVENT
END:VCALENDAR
