BEGIN:VCALENDAR
VERSION:2.0
PRODID:-//Squarespace Inc/Squarespace 6//v6//EN
BEGIN:VEVENT
UID:5a62cb25e2c483fd640a7191@squarespace.com
DTSTAMP:20180211T030740Z
DTSTART:20180328T070000Z
DTEND:20180328T090000Z
SUMMARY:Big Band Rehearsal
GEO:-27.466216;153.034053
LOCATION:The Brisbane Jazz Club
END:VEVENT
END:VCALENDAR
