BEGIN:VCALENDAR
VERSION:2.0
PRODID:-//Squarespace Inc/Squarespace 6//v6//EN
BEGIN:VEVENT
UID:5a62cb6b9140b7fa0a6bb548@squarespace.com
DTSTAMP:20180211T030251Z
DTSTART:20180411T070000Z
DTEND:20180411T090000Z
SUMMARY:Big Band Rehearsal
GEO:-27.466216;153.034053
LOCATION:The Brisbane Jazz Club
END:VEVENT
END:VCALENDAR
