BEGIN:VCALENDAR
VERSION:2.0
PRODID:-//Squarespace Inc/Squarespace 6//v6//EN
BEGIN:VEVENT
UID:5a62cc6b0d929715074fb400@squarespace.com
DTSTAMP:20180211T030309Z
DTSTART:20180425T040000Z
DTEND:20180425T070000Z
SUMMARY:Big Band Rehearsal*
GEO:-27.466216;153.034053
LOCATION:The Brisbane Jazz Club
END:VEVENT
END:VCALENDAR
