BEGIN:VCALENDAR
VERSION:2.0
PRODID:-//Squarespace Inc/Squarespace 6//v6//EN
BEGIN:VEVENT
UID:5a7fb0d7f9619ab1a947cf25@squarespace.com
DTSTAMP:20180211T030337Z
DTSTART:20180515T070000Z
DTEND:20180515T090000Z
SUMMARY:Big Band Rehearsal
GEO:-27.466216;153.034053
LOCATION:The Brisbane Jazz Club
END:VEVENT
END:VCALENDAR
