BEGIN:VCALENDAR
VERSION:2.0
PRODID:-//Squarespace Inc/Squarespace 6//v6//EN
BEGIN:VEVENT
UID:5a7fb1130852294ef6d7a145@squarespace.com
DTSTAMP:20180211T030330Z
DTSTART:20180509T070000Z
DTEND:20180509T090000Z
SUMMARY:Big Band Rehearsal
GEO:-27.466216;153.034053
LOCATION:The Brisbane Jazz Club
END:VEVENT
END:VCALENDAR
