BEGIN:VCALENDAR
VERSION:2.0
PRODID:-//Squarespace Inc/Squarespace 6//v6//EN
BEGIN:VEVENT
UID:5a7fb2a6ec212d8118e382b0@squarespace.com
DTSTAMP:20180211T030429Z
DTSTART:20180627T070000Z
DTEND:20180627T090000Z
SUMMARY:Big Band Rehearsal
GEO:-27.466216;153.034053
LOCATION:The Brisbane Jazz Club
END:VEVENT
END:VCALENDAR
