BEGIN:VCALENDAR
VERSION:2.0
PRODID:-//Squarespace Inc/Squarespace 6//v6//EN
BEGIN:VEVENT
UID:5a5c15a9c83025289a98369c@squarespace.com
DTSTAMP:20180115T061023Z
DTSTART:20180219T060000Z
DTEND:20180219T073000Z
SUMMARY:Sign Up Day
GEO:-27.466216;153.034053
LOCATION:The Brisbane Jazz Club
END:VEVENT
END:VCALENDAR
