BEGIN:VCALENDAR
VERSION:2.0
PRODID:-//Squarespace Inc/Squarespace 6//v6//EN
BEGIN:VEVENT
UID:5a62cb930852297c4174872f@squarespace.com
DTSTAMP:20180120T045712Z
DTSTART:20180413T070000Z
DTEND:20180413T120000Z
SUMMARY:Jazz Celebration #2 feat. TJ Big Band
GEO:-27.466216;153.034053
LOCATION:the brisbane jazz club
END:VEVENT
END:VCALENDAR
