BEGIN:VCALENDAR
VERSION:2.0
PRODID:-//Squarespace Inc/Squarespace 6//v6//EN
BEGIN:VEVENT
UID:5872dd07579fb3564e1b3d53@squarespace.com
DTSTAMP:20170109T004531Z
DTSTART:20170908T230000Z
DTEND:20170909T010000Z
SUMMARY:Jam Session 13
END:VEVENT
END:VCALENDAR
