BEGIN:VCALENDAR
VERSION:2.0
PRODID:-//Squarespace Inc/Squarespace 6//v6//EN
BEGIN:VEVENT
UID:5872e206b8a79bc1e783b2c1@squarespace.com
DTSTAMP:20170118T112259Z
DTSTART:20170930T080000Z
DTEND:20170930T090000Z
SUMMARY:Performance Workshop - PERFORMANCE
END:VEVENT
END:VCALENDAR
