BEGIN:VCALENDAR
VERSION:2.0
PRODID:-//Squarespace Inc/Squarespace 6//v6//EN
BEGIN:VEVENT
UID:5872e1e43a0411e772a592f5@squarespace.com
DTSTAMP:20170118T113219Z
DTSTART:20170929T020000Z
DTEND:20170929T070000Z
SUMMARY:Performance Workshop - Final day\, different time
END:VEVENT
END:VCALENDAR
