BEGIN:VCALENDAR
VERSION:2.0
PRODID:-//Squarespace Inc/Squarespace 6//v6//EN
BEGIN:VEVENT
UID:5872e1199de4bbce8a94b8ee@squarespace.com
DTSTAMP:20170109T010515Z
DTSTART:20170927T230000Z
DTEND:20170928T030000Z
SUMMARY:Performance Workshop
END:VEVENT
END:VCALENDAR
