BEGIN:VCALENDAR
VERSION:2.0
PRODID:-//Squarespace Inc/Squarespace 6//v6//EN
BEGIN:VEVENT
UID:5872e0f4cd0f6899bafc70b2@squarespace.com
DTSTAMP:20170109T010206Z
DTSTART:20170926T230000Z
DTEND:20170927T030000Z
SUMMARY:Performance Workshop
END:VEVENT
END:VCALENDAR
