BEGIN:VCALENDAR
VERSION:2.0
PRODID:-//Squarespace Inc/Squarespace 6//v6//EN
BEGIN:VEVENT
UID:5872e0d1e3df28a55209682a@squarespace.com
DTSTAMP:20170109T010128Z
DTSTART:20170925T230000Z
DTEND:20170926T030000Z
SUMMARY:Performance Workshop
END:VEVENT
END:VCALENDAR
