BEGIN:VCALENDAR
VERSION:2.0
PRODID:-//Squarespace Inc/Squarespace 6//v6//EN
BEGIN:VEVENT
UID:5872df4646c3c455fb164d9d@squarespace.com
DTSTAMP:20170109T005453Z
DTSTART:20170921T230000Z
DTEND:20170922T030000Z
SUMMARY:Performance Workshop
END:VEVENT
END:VCALENDAR
