BEGIN:VCALENDAR
VERSION:2.0
PRODID:-//Squarespace Inc/Squarespace 6//v6//EN
BEGIN:VEVENT
UID:5872dedfe4fcb5de50096635@squarespace.com
DTSTAMP:20170109T005419Z
DTSTART:20170920T230000Z
DTEND:20170921T030000Z
SUMMARY:Performance Workshop
END:VEVENT
END:VCALENDAR
