BEGIN:VCALENDAR
VERSION:2.0
PRODID:-//Squarespace Inc/Squarespace 6//v6//EN
BEGIN:VEVENT
UID:5872de94e4fcb5de50096288@squarespace.com
DTSTAMP:20170109T005228Z
DTSTART:20170919T230000Z
DTEND:20170920T030000Z
SUMMARY:Performance Workshop
END:VEVENT
END:VCALENDAR
