BEGIN:VCALENDAR
VERSION:2.0
PRODID:-//Squarespace Inc/Squarespace 6//v6//EN
BEGIN:VEVENT
UID:5872de4203596ecf878a2423@squarespace.com
DTSTAMP:20170109T005043Z
DTSTART:20170918T230000Z
DTEND:20170919T030000Z
SUMMARY:Performance Workshop
END:VEVENT
END:VCALENDAR
