BEGIN:VCALENDAR
VERSION:2.0
PRODID:-//Squarespace Inc/Squarespace 6//v6//EN
BEGIN:VEVENT
UID:5872dde9e58c62c2b15ae75c@squarespace.com
DTSTAMP:20170109T004958Z
DTSTART:20170917T230000Z
DTEND:20170918T030000Z
SUMMARY:Performance Workshop
END:VEVENT
END:VCALENDAR
