BEGIN:VCALENDAR
VERSION:2.0
PRODID:-//Squarespace Inc/Squarespace 6//v6//EN
BEGIN:VEVENT
UID:5872dcddd1758e4368dc71c2@squarespace.com
DTSTAMP:20170109T004443Z
DTSTART:20170825T230000Z
DTEND:20170826T010000Z
SUMMARY:Jam Session 12
END:VEVENT
END:VCALENDAR
