BEGIN:VCALENDAR
VERSION:2.0
PRODID:-//Squarespace Inc/Squarespace 6//v6//EN
BEGIN:VEVENT
UID:5872dc048419c2fab2584dbf@squarespace.com
DTSTAMP:20170109T004036Z
DTSTART:20170728T230000Z
DTEND:20170729T010000Z
SUMMARY:Jam Session 10
END:VEVENT
END:VCALENDAR
