BEGIN:VCALENDAR
VERSION:2.0
PRODID:-//Squarespace Inc/Squarespace 6//v6//EN
BEGIN:VEVENT
UID:5872dbbcbe65949ec2be40be@squarespace.com
DTSTAMP:20170109T003956Z
DTSTART:20170714T230000Z
DTEND:20170715T010000Z
SUMMARY:Jam Session 9
END:VEVENT
END:VCALENDAR
