BEGIN:VCALENDAR
VERSION:2.0
PRODID:-//Squarespace Inc/Squarespace 6//v6//EN
BEGIN:VEVENT
UID:5880a849725e25792a4a3976@squarespace.com
DTSTAMP:20170119T115157Z
DTSTART:20170607T070000Z
DTEND:20170607T083000Z
SUMMARY:Big Band Rehearsal 7
END:VEVENT
END:VCALENDAR
