BEGIN:VCALENDAR
VERSION:2.0
PRODID:-//Squarespace Inc/Squarespace 6//v6//EN
BEGIN:VEVENT
UID:5872db74bebafb70ccee6db8@squarespace.com
DTSTAMP:20170109T003832Z
DTSTART:20170602T230000Z
DTEND:20170603T010000Z
SUMMARY:Jam Session 7
END:VEVENT
END:VCALENDAR
