BEGIN:VCALENDAR
VERSION:2.0
PRODID:-//Squarespace Inc/Squarespace 6//v6//EN
BEGIN:VEVENT
UID:5872db94f7e0abf4984e7ba6@squarespace.com
DTSTAMP:20170119T115630Z
DTSTART:20170616T230000Z
DTEND:20170617T010000Z
SUMMARY:Jam Session 8
END:VEVENT
END:VCALENDAR
