BEGIN:VCALENDAR
VERSION:2.0
PRODID:-//Squarespace Inc/Squarespace 6//v6//EN
BEGIN:VEVENT
UID:5880a8696a49633508b98437@squarespace.com
DTSTAMP:20170119T115247Z
DTSTART:20170614T070000Z
DTEND:20170614T083000Z
SUMMARY:Big Band Rehearsal 8
END:VEVENT
END:VCALENDAR
